BEGIN:VCALENDAR
VERSION:2.0
PRODID:-//The Stove Network - ECPv4.6.12//NONSGML v1.0//EN
CALSCALE:GREGORIAN
METHOD:PUBLISH
X-WR-CALNAME:The Stove Network
X-ORIGINAL-URL:http://www.thestove.org
X-WR-CALDESC:Events for The Stove Network
BEGIN:VEVENT
DTSTART;TZID=Europe/London:20180410T173000
DTEND;TZID=Europe/London:20180410T193000
DTSTAMP:20180410T011204
CREATED:20180402T112953Z
LAST-MODIFIED:20180402T112953Z
UID:6831-1523381400-1523388600@www.thestove.org
SUMMARY:Blueprint100: Melting Pot
DESCRIPTION:Blueprint100 are very happy to be rolling out The Melting Pot throughout the month of April!\nThe Melting Pot is an open and engaging creative space for young people in which to explore and grow new projects. \nParticipants are invited to make the most of the relaxed Stove Cafe atmosphere and our materials\, get inspired\, collaborate\, discuss and create.\nYou can come along to as many or as few as you like\, each week will be different from the next.\nFor more details\, visit the blueprint100 facebook page here \n
URL:http://www.thestove.org/event/blueprint100-melting-pot-6/
LOCATION:100 High Street \, Dumfries\, DG1 2BN\, United Kingdom
ATTACH;FMTTYPE=image/jpeg:http://www.thestove.org/wp-content/uploads/2018/02/melt.jpg
ORGANIZER;CN="blueprint100":MAILTO:blueprint100&lt;at&gt;thestove.org
END:VEVENT
BEGIN:VEVENT
DTSTART;TZID=Europe/London:20180411T150000
DTEND;TZID=Europe/London:20180411T170000
DTSTAMP:20180410T011204
CREATED:20180402T120813Z
LAST-MODIFIED:20180402T120813Z
UID:6859-1523458800-1523466000@www.thestove.org
SUMMARY:Stitching Our Story
DESCRIPTION:\n\n\n\nStitching\, cuppas and stories. Join us in exploring Dumfries’ streets by stitching into a map of Dumfries. Supported by Alyne Jones and Katharine Wheeler. Squares also available to take home on request\, contact Katharine@thestove.org for further info. \n\n\n\n\n
URL:http://www.thestove.org/event/stitching-our-story-10/
LOCATION:100 High Street \, Dumfries\, DG1 2BN\, United Kingdom
ATTACH;FMTTYPE=image/jpeg:http://www.thestove.org/wp-content/uploads/2017/05/17952751_795739537240914_5190248052197425164_n.jpg
ORGANIZER;CN="Katharine%20Wheeler":MAILTO:katharine@thestove.org
END:VEVENT
BEGIN:VEVENT
DTSTART;TZID=Europe/London:20180411T170000
DTEND;TZID=Europe/London:20180411T190000
DTSTAMP:20180410T011204
CREATED:20180402T121749Z
LAST-MODIFIED:20180403T171057Z
UID:6863-1523466000-1523473200@www.thestove.org
SUMMARY:Drawing for Enjoyment: Block 9 Launch
DESCRIPTION:\n\n\n\nDrawing for Enjoyment returns and will continue for 5 weeks at the Usual Place after the launch at the Stove. Led by artist and tutor Frank Hayes.\nOpen to All\, ages 16 and over.\nFor more details visit the Drawing for Enjoyment facebook page here \n\n\n\n\n
URL:http://www.thestove.org/event/drawing-for-enjoyment-block-9-launch/
LOCATION:100 High Street \, Dumfries\, DG1 2BN\, United Kingdom
ATTACH;FMTTYPE=image/png:http://www.thestove.org/wp-content/uploads/2017/06/Screenshot_2017-06-07-13-09-36_resized.png
END:VEVENT
BEGIN:VEVENT
DTSTART;TZID=Europe/London:20180411T180000
DTEND;TZID=Europe/London:20180411T193000
DTSTAMP:20180410T011204
CREATED:20180402T121425Z
LAST-MODIFIED:20180402T121425Z
UID:6861-1523469600-1523475000@www.thestove.org
SUMMARY:High Street Writers: Fantasy World Building
DESCRIPTION:\n\n\n\nA fantasy world building workshop ran by Ayla Fudala. Come along and try your hand at something new\, or if you’re already into this stuff then come along for some new perspectives and inspiration. Tea and coffee provided. For more info visit @highstreetwriters on Facebook. \n\n\n\n\n
URL:http://www.thestove.org/event/high-street-writers-fantasy/
LOCATION:100 High Street \, Dumfries\, DG1 2BN\, United Kingdom
ATTACH;FMTTYPE=image/jpeg:http://www.thestove.org/wp-content/uploads/2018/01/A_typewriter_10995863465.jpg
END:VEVENT
BEGIN:VEVENT
DTSTART;TZID=Europe/London:20180412T180000
DTEND;TZID=Europe/London:20180412T190000
DTSTAMP:20180410T011204
CREATED:20180402T113526Z
LAST-MODIFIED:20180402T113526Z
UID:6840-1523556000-1523559600@www.thestove.org
SUMMARY:NW Dumfries Photography Group
DESCRIPTION:Based at the Lincluden Community Centre\, the NW Dumfries Photography Group is an informal weekly group for local photographers of all experience – with monthly workshops from professional photographers and filmmakers. Ideal for anyone interested in photography. Email kirstin@thestove.org for more information. \n
URL:http://www.thestove.org/event/nw-dumfries-photography-group-2/
LOCATION:Dumfries\, DG2 0DL\, United Kingdom
GEO:55.0836964;-3.624145
ATTACH;FMTTYPE=image/png:http://www.thestove.org/wp-content/uploads/2018/04/28872477_1876418405704561_7047396668028586037_n.png
ORGANIZER;CN="Kirstin%20McEwan":MAILTO:kirstin@thestove.org
END:VEVENT
BEGIN:VEVENT
DTSTART;TZID=Europe/London:20180413T190000
DTEND;TZID=Europe/London:20180413T210000
DTSTAMP:20180410T011204
CREATED:20180402T123215Z
LAST-MODIFIED:20180402T123215Z
UID:6865-1523646000-1523653200@www.thestove.org
SUMMARY:Reel to Real: Requiem for Detroit
DESCRIPTION:Requiem for Detroit? | Julien Temple | 2010 | 90 minutes | UK \nIn partnership with the Midsteeple Quarter project\, this month&#8217;s Reel to Real screening is documentary film Requiem for Detroit.\nSuggested donations £3 will be collected on the night to cover screening costs. \n&#8216;Built by the car for the car\, with its groundbreaking suburbs\, freeways and shopping centres\, it was the embodiment of the American dream.\nNow it is truly a dystopic post-industrial city\, in which 40 per cent of the land in the centre is returning to prairie. Greenery grows up through abandoned office blocks\, houses and collapsing car plants\, and swallows up street lights.\nPolice stations and post offices have been left with undrunk cups of coffee and unprocessed police files. There is no more rush hour on what were the first freeways in America. Crime\, vandalism\, arson and dog fighting are the main activities in once the largest building in North America. But it&#8217;s also a source of hope.\nStreets are being turned to art. Farming is coming back to the centre of the city. Young people are flocking to help. The burgeoning urban agricultural movement is the fastest growing movement in the US. Detroit leads the way again but in a very different direction.&#8217; \n \nBBC Documentary: Requiem For Detroit from Logan Siegel on Vimeo. \n
URL:http://www.thestove.org/event/reel-to-real-requiem-for-detroit/
LOCATION:100 High Street \, Dumfries\, DG1 2BN\, United Kingdom
ATTACH;FMTTYPE=image/jpeg:http://www.thestove.org/wp-content/uploads/2016/01/Reel_Real-1.jpg
ORGANIZER;CN="Katie%20Anderson":MAILTO:katie@thestove.org
END:VEVENT
BEGIN:VEVENT
DTSTART;TZID=Europe/London:20180417T173000
DTEND;TZID=Europe/London:20180417T193000
DTSTAMP:20180410T011204
CREATED:20180402T113043Z
LAST-MODIFIED:20180402T113043Z
UID:6833-1523986200-1523993400@www.thestove.org
SUMMARY:Blueprint100: Melting Pot
DESCRIPTION:Blueprint100 are very happy to be rolling out The Melting Pot throughout the month of April!\nThe Melting Pot is an open and engaging creative space for young people in which to explore and grow new projects. \nParticipants are invited to make the most of the relaxed Stove Cafe atmosphere and our materials\, get inspired\, collaborate\, discuss and create.\nYou can come along to as many or as few as you like\, each week will be different from the next.\nFor more details\, visit the blueprint100 facebook page here \n
URL:http://www.thestove.org/event/blueprint100-melting-pot-7/
LOCATION:100 High Street \, Dumfries\, DG1 2BN\, United Kingdom
ATTACH;FMTTYPE=image/jpeg:http://www.thestove.org/wp-content/uploads/2018/02/melt.jpg
ORGANIZER;CN="blueprint100":MAILTO:blueprint100&lt;at&gt;thestove.org
END:VEVENT
BEGIN:VEVENT
DTSTART;TZID=Europe/London:20180418T190000
DTEND;TZID=Europe/London:20180418T203000
DTSTAMP:20180410T011204
CREATED:20180402T124606Z
LAST-MODIFIED:20180402T124606Z
UID:6868-1524078000-1524083400@www.thestove.org
SUMMARY:Drawing Stories: 4 Week Course
DESCRIPTION:\n\n\n\nA short course for beginners and more experienced artists introducing the\nart of drawing and illustrating. Basic constructional drawing techniques will be presented\, and ways in which they can be used to illustrate stories\, web sites\, books\, comics and promotional material. No previous skill or materials required.\nPresented by Mark Toner and Steve Pickering for more information contact mark@spacepilot.scot \n\n\n\n\n
URL:http://www.thestove.org/event/drawing-stories-4-week-course/
LOCATION:100 High Street \, Dumfries\, DG1 2BN\, United Kingdom
ATTACH;FMTTYPE=image/jpeg:http://www.thestove.org/wp-content/uploads/2018/04/poster-2018.jpg
ORGANIZER;CN="Mark%20Toner":MAILTO:mark@spacepilot.scot
END:VEVENT
BEGIN:VEVENT
DTSTART;TZID=Europe/London:20180419T180000
DTEND;TZID=Europe/London:20180419T190000
DTSTAMP:20180410T011204
CREATED:20180402T113641Z
LAST-MODIFIED:20180402T113641Z
UID:6842-1524160800-1524164400@www.thestove.org
SUMMARY:NW Dumfries Photography Group
DESCRIPTION:Based at the Lincluden Community Centre\, the NW Dumfries Photography Group is an informal weekly group for local photographers of all experience – with monthly workshops from professional photographers and filmmakers. Ideal for anyone interested in photography. Email kirstin@thestove.org for more information. \n
URL:http://www.thestove.org/event/nw-dumfries-photography-group-3/
LOCATION:Dumfries\, DG2 0DL\, United Kingdom
GEO:55.0836964;-3.624145
ATTACH;FMTTYPE=image/png:http://www.thestove.org/wp-content/uploads/2018/04/28872477_1876418405704561_7047396668028586037_n.png
ORGANIZER;CN="Kirstin%20McEwan":MAILTO:kirstin@thestove.org
END:VEVENT
BEGIN:VEVENT
DTSTART;TZID=Europe/London:20180421T193000
DTEND;TZID=Europe/London:20180421T220000
DTSTAMP:20180410T011204
CREATED:20180402T125907Z
LAST-MODIFIED:20180402T125907Z
UID:6879-1524339000-1524348000@www.thestove.org
SUMMARY:Lavender Menace: Launch Party for the D&G Queerier
DESCRIPTION:D&G Queerier is a new magazine made by and for the people of the queer community in and around Dumfries and Galloway\, including topical and issue based pieces\, creative writing and art\, reviews and events. \nThe current entertainment line up for the launch party includes: \nMusic from Glasgow&#8217;s Black Doves and Dumfries&#8217; Diane Maclean\, a performance by Paisley Theater Group\, comedy by Michael Greaves Mackintosh\, and poetry performed by Lizzie Parsons\nMore acts TBC! \nDonations will be collected on the door. \n
URL:http://www.thestove.org/event/lavender-menace-launch-party-for-the-dg-queerier/
LOCATION:100 High Street \, Dumfries\, DG1 2BN\, United Kingdom
ATTACH;FMTTYPE=image/jpeg:http://www.thestove.org/wp-content/uploads/2017/10/20604368_546496619033723_3434550175570367823_n.jpg
END:VEVENT
BEGIN:VEVENT
DTSTART;TZID=Europe/London:20180424T173000
DTEND;TZID=Europe/London:20180424T193000
DTSTAMP:20180410T011204
CREATED:20180402T113136Z
LAST-MODIFIED:20180402T113136Z
UID:6835-1524591000-1524598200@www.thestove.org
SUMMARY:Blueprint100: Melting Pot
DESCRIPTION:Blueprint100 are very happy to be rolling out The Melting Pot throughout the month of April!\nThe Melting Pot is an open and engaging creative space for young people in which to explore and grow new projects. \nParticipants are invited to make the most of the relaxed Stove Cafe atmosphere and our materials\, get inspired\, collaborate\, discuss and create.\nYou can come along to as many or as few as you like\, each week will be different from the next.\nFor more details\, visit the blueprint100 facebook page here \n
URL:http://www.thestove.org/event/blueprint100-melting-pot-8/
LOCATION:100 High Street \, Dumfries\, DG1 2BN\, United Kingdom
ATTACH;FMTTYPE=image/jpeg:http://www.thestove.org/wp-content/uploads/2018/02/melt.jpg
ORGANIZER;CN="blueprint100":MAILTO:blueprint100&lt;at&gt;thestove.org
END:VEVENT
BEGIN:VEVENT
DTSTART;TZID=Europe/London:20180425T190000
DTEND;TZID=Europe/London:20180425T203000
DTSTAMP:20180410T011204
CREATED:20180402T124722Z
LAST-MODIFIED:20180402T124722Z
UID:6873-1524682800-1524688200@www.thestove.org
SUMMARY:Drawing Stories: 4 Week Course
DESCRIPTION:A short course for beginners and more experienced artists introducing the\nart of drawing and illustrating. Basic constructional drawing techniques will be presented\, and ways in which they can be used to illustrate stories\, web sites\, books\, comics and promotional material. No previous skill or materials required.\nPresented by Mark Toner and Steve Pickering for more information contact mark@spacepilot.scot \n
URL:http://www.thestove.org/event/drawing-stories-4-week-course-2/
LOCATION:100 High Street \, Dumfries\, DG1 2BN\, United Kingdom
ATTACH;FMTTYPE=image/jpeg:http://www.thestove.org/wp-content/uploads/2018/04/poster-2018.jpg
ORGANIZER;CN="Mark%20Toner":MAILTO:mark@spacepilot.scot
END:VEVENT
BEGIN:VEVENT
DTSTART;TZID=Europe/London:20180426T173000
DTEND;TZID=Europe/London:20180426T193000
DTSTAMP:20180410T011204
CREATED:20180402T130112Z
LAST-MODIFIED:20180402T130112Z
UID:6881-1524763800-1524771000@www.thestove.org
SUMMARY:Whose Hoose Awards Ceremony
DESCRIPTION:\n\n\n\nTo celebrate the end of D-Lux’s Whose Hoose is This? Project\, they are hosting a Wrap Party and Awards Ceremony. Join them at the Stove to award the winning films in five different categories and then onwards to the Bakers Oven to view all winning films together in the square. \n\n\n\n\n
URL:http://www.thestove.org/event/whose-hoose-awards-ceremony/
LOCATION:100 High Street \, Dumfries\, DG1 2BN\, United Kingdom
ATTACH;FMTTYPE=image/jpeg:http://www.thestove.org/wp-content/uploads/2018/04/Whose-Hoose.jpg
ORGANIZER;CN="D%20Lux":MAILTO:lightd-lux.org.uk
END:VEVENT
BEGIN:VEVENT
DTSTART;TZID=Europe/London:20180426T180000
DTEND;TZID=Europe/London:20180426T190000
DTSTAMP:20180410T011204
CREATED:20180402T113739Z
LAST-MODIFIED:20180402T113739Z
UID:6844-1524765600-1524769200@www.thestove.org
SUMMARY:NW Dumfries Photography Group
DESCRIPTION:Based at the Lincluden Community Centre\, the NW Dumfries Photography Group is an informal weekly group for local photographers of all experience – with monthly workshops from professional photographers and filmmakers. Ideal for anyone interested in photography. Email kirstin@thestove.org for more information. \n
URL:http://www.thestove.org/event/nw-dumfries-photography-group-4/
LOCATION:Dumfries\, DG2 0DL\, United Kingdom
GEO:55.0836964;-3.624145
ATTACH;FMTTYPE=image/png:http://www.thestove.org/wp-content/uploads/2018/04/28872477_1876418405704561_7047396668028586037_n.png
ORGANIZER;CN="Kirstin%20McEwan":MAILTO:kirstin@thestove.org
END:VEVENT
BEGIN:VEVENT
DTSTART;TZID=Europe/London:20180427T190000
DTEND;TZID=Europe/London:20180427T210000
DTSTAMP:20180410T011204
CREATED:20180402T130409Z
LAST-MODIFIED:20180402T130409Z
UID:6883-1524855600-1524862800@www.thestove.org
SUMMARY:Brave New Words
DESCRIPTION:\n\n\n\nMonthly open mic night for words spoken or sung. Be Brave. \n\n\n\n\n
URL:http://www.thestove.org/event/brave-new-words-19/
LOCATION:100 High Street \, Dumfries\, DG1 2BN\, United Kingdom
ATTACH;FMTTYPE=image/jpeg:http://www.thestove.org/wp-content/uploads/2016/07/IMG_0320-2.jpg
ORGANIZER;CN="Martin%20O%27Neill":MAILTO:martin@thestove.org
END:VEVENT
BEGIN:VEVENT
DTSTART;TZID=Europe/London:20180428T140000
DTEND;TZID=Europe/London:20180428T160000
DTSTAMP:20180410T011204
CREATED:20180402T130729Z
LAST-MODIFIED:20180402T130729Z
UID:6885-1524924000-1524931200@www.thestove.org
SUMMARY:DMC Presents: Dave Bass' U18 Acoustic Afternoon
DESCRIPTION:\n\n\n\nA showcase of up and coming talent in the cafe\, instructed by Dave Bass guitar expert. \n\n\n\n\n
URL:http://www.thestove.org/event/dmc-presents-dave-bass-u18-acoustic-afternoon/
LOCATION:100 High Street \, Dumfries\, DG1 2BN\, United Kingdom
ATTACH;FMTTYPE=image/jpeg:http://www.thestove.org/wp-content/uploads/2017/11/23722238_10210239866048278_7867113971047532411_n.jpg
END:VEVENT
BEGIN:VEVENT
DTSTART;TZID=Europe/London:20180502T190000
DTEND;TZID=Europe/London:20180502T203000
DTSTAMP:20180410T011204
CREATED:20180402T124831Z
LAST-MODIFIED:20180402T124831Z
UID:6875-1525287600-1525293000@www.thestove.org
SUMMARY:Drawing Stories: 4 Week Course
DESCRIPTION:A short course for beginners and more experienced artists introducing the\nart of drawing and illustrating. Basic constructional drawing techniques will be presented\, and ways in which they can be used to illustrate stories\, web sites\, books\, comics and promotional material. No previous skill or materials required.\nPresented by Mark Toner and Steve Pickering for more information contact mark@spacepilot.scot \n
URL:http://www.thestove.org/event/drawing-stories-4-week-course-3/
LOCATION:100 High Street \, Dumfries\, DG1 2BN\, United Kingdom
ATTACH;FMTTYPE=image/jpeg:http://www.thestove.org/wp-content/uploads/2018/04/poster-2018.jpg
ORGANIZER;CN="Mark%20Toner":MAILTO:mark@spacepilot.scot
END:VEVENT
BEGIN:VEVENT
DTSTART;TZID=Europe/London:20180509T190000
DTEND;TZID=Europe/London:20180509T203000
DTSTAMP:20180410T011204
CREATED:20180402T124953Z
LAST-MODIFIED:20180402T124953Z
UID:6877-1525892400-1525897800@www.thestove.org
SUMMARY:Drawing Stories: 4 Week Course
DESCRIPTION:A short course for beginners and more experienced artists introducing the\nart of drawing and illustrating. Basic constructional drawing techniques will be presented\, and ways in which they can be used to illustrate stories\, web sites\, books\, comics and promotional material. No previous skill or materials required.\nPresented by Mark Toner and Steve Pickering for more information contact mark@spacepilot.scot \n
URL:http://www.thestove.org/event/drawing-stories-4-week-course-4/
LOCATION:100 High Street \, Dumfries\, DG1 2BN\, United Kingdom
ATTACH;FMTTYPE=image/jpeg:http://www.thestove.org/wp-content/uploads/2018/04/poster-2018.jpg
ORGANIZER;CN="Mark%20Toner":MAILTO:mark@spacepilot.scot
END:VEVENT
END:VCALENDAR